Workbook

Sheet Índice Datos Exportaciones
A1: EXPORTACIONES DE LA PROVINCIA DE TUCUMÁN
A2: Fuente: Área Comercio Exterior de la Dirección de Estadística de la Provincia de Tucumán, en base a datos de INDEC.
A3: Índice:
A4: Tabla 1: | B4: Exportaciones de Tucumán: Totales y por Grandes Rubros, en millones de dólares corrientes. Datos anuales: 1993 a 2025.
A5: Tabla 2: | B5: Exportaciones de Tucumán: Detalle por Principales Rubros, en millones de dólares corrientes. Datos anuales: 1993 a 2025.
A6: Tabla 3: | B6: Exportaciones de Tucumán: Totales y por Grandes Rubros, en dólares corrientes. Datos mensuales: Enero de 2021 a Agosto de 2026.
A7: Tabla 4: | B7: Exportaciones de Tucumán: Valores mensuales acumulados desde Enero de 2026 a Agosto de 2026, comparados al mismo periodo en 2025, en dólares corrientes. Totales y Grandes Rubros.
A8: Figura 1: | B8: Exportaciones Totales de Tucumán, en millones de dólares corrientes. Datos anuales: 1993 a 2025.
A9: Figura 2: | B9: Exportaciones Totales de Tucumán y participación por Grandes Rubros, en millones de dólares corrientes. Datos anuales: 1993 a 2025.
A10: Figura 3: | B10: Exportaciones Totales de Tucumán: Valores mensuales acumulados desde Enero de 2026 a Agosto de 2026, comparados al mismo periodo en 2025, en dólares corrientes.
A11: Figura 4: | B11: Exportaciones de Tucumán - Productos primarios: Valores mensuales acumulados desde Enero de 2026 a Agosto de 2026, comparados al mismo periodo en 2025, en dólares corrientes.
A12: Figura 5: | B12: Exportaciones de Tucumán - Manufacturas de origen agropecuario: Valores mensuales acumulados desde Enero de 2026 a Agosto de 2026, comparados al mismo periodo en 2025, en dólares corrientes.
A13: Figura 6: | B13: Exportaciones de Tucumán - Manufacturas de origen industrial: Valores mensuales acumulados desde Enero de 2026 a Agosto de 2026, comparados al mismo periodo en 2025, en dólares corrientes.
A14: Figura 7: | B14: Exportaciones de Tucumán - Combustibles y enregía: Valores mensuales acumulados desde Enero de 2026 a Agosto de 2026, comparados al mismo periodo en 2025, en dólares corrientes.

Sheet Tabla 1
A1: Tabla 1: Exportaciones de Tucumán: Totales y por Grandes Rubros, en millones de dólares corrientes. Datos anuales: 1993 a 2025.
A2: Fuente: Área Comercio Exterior de la Dirección de Estadística de la Provincia de Tucumán, en base a datos de INDEC.
A4: Período | B4: Total | C4: Productos Primarios | D4: Manufacturas de Origen Agropecuario | E4: Manufacturas de Origen Industrial | F4: Combustible y Energía
A5: 1993 | B5: 153.34 | C5: 39.241 | D5: 34.043 | E5: 80.056 | F5: 0
A6: 1994 | B6: 223.73 | C6: 64.15 | D6: 45.602 | E6: 113.979 | F6: 0
A7: 1995 | B7: 387.411 | C7: 81.732 | D7: 90.878 | E7: 214.8 | F7: 0
A8: 1996 | B8: 362.48 | C8: 109.498 | D8: 114.25 | E8: 138.732 | F8: 0
A9: 1997 | B9: 416.472 | C9: 118.258 | D9: 110.967 | E9: 185.12 | F9: 2.128
A10: 1998 | B10: 383.302 | C10: 127.242 | D10: 106.801 | E10: 147.071 | F10: 2.188
A11: 1999 | B11: 334.45 | C11: 119.073 | D11: 84.198 | E11: 131.152 | F11: 0
A12: 2000 | B12: 407.764 | C12: 130.593 | D12: 120.7 | E12: 156.472 | F12: 0
A13: 2001 | B13: 417.974 | C13: 155.256 | D13: 117.966 | E13: 144.751 | F13: 0
A14: 2002 | B14: 417.041 | C14: 157.491 | D14: 126.038 | E14: 133.513 | F14: 0
A15: 2003 | B15: 387.735 | C15: 170.03 | D15: 98.236 | E15: 119.469 | F15: 0
A16: 2004 | B16: 438.205 | C16: 184.742 | D16: 96.484 | E16: 156.976 | F16: 0
... A35: 2023 | B35: 769.18064 | C35: 191.76183 | D35: 242.88735 | E35: 332.21171 | F35: 2.3197586
A36: 2024 * | B36: 930.39543 | C36: 194.72532 | D36: 360.32823 | E36: 372.82951 | F36: 2.512369
A37: 2025 * | B37: 966.929 | C37: 256.7893 | D37: 372.69092 | E37: 335.10853 | F37: 2.340264
A40: Notas:
A41: (1) Los valores consignados de las exportaciones se refieren a precios libre a bordo (FOB, por sus siglas en inglés) en el puerto o lugar de embarque de las mercaderías. Es decir que el precio de la transacción incluye también los gastos internos incurridos hasta trasladar las mercaderías al lugar o puerto de embarque.
A42: (2) Los totales por suma pueden no coincidir por redondeo en las cifras parciales.
A44: (*) Datos provisorios

Sheet Tabla 2
A1: Tabla 2: Exportaciones de Tucumán: Detalle por Principales Rubros, en millones de dólares corrientes. Datos anuales: 1993 a 2025.
A2: Fuente: Área Comercio Exterior de la Dirección de Estadística de la Provincia de Tucumán, en base a datos de INDEC.
A4: Rubros | B4: 1993 | C4: 1994 | D4: 1995 | E4: 1996 | F4: 1997 | G4: 1998 | H4: 1999 | I4: 2000 | J4: 2001 | K4: 2002 | L4: 2003 | M4: 2004 | N4: 2005 | O4: 2006 | P4: 2007 | Q4: 2008 | R4: 2009 | S4: 2010 | T4: 2011 | U4: 2012 | V4: 2013 | W4: 2014 | X4: 2015 | Y4: 2016 | Z4: 2017 | AA4: 2018 | AB4: 2019 | AC4: 2020 | AD4: 2021 | AE4: 2022 | AF4: 2023 | AG4: 2024* | AH4: 2025*
A5: TOTAL | B5: 153.34 | C5: 223.73 | D5: 387.411 | E5: 362.48 | F5: 416.472 | G5: 383.302 | H5: 334.45 | I5: 407.764 | J5: 417.974 | K5: 417.041 | L5: 387.735 | M5: 438.205 | N5: 560.886 | O5: 652.756 | P5: 756.935 | Q5: 1025.256 | R5: 781.344 | S5: 913.718 | T5: 1015.727 | U5: 879.567 | V5: 920.837 | W5: 692.611 | X5: 828.16 | Y5: 1202.552 | Z5: 1051.3842 | AA5: 1116.8558 | AB5: 951.89589 | AC5: 773.7502 | AD5: 914.48817 | AE5: 931.96485 | AF5: 769.18064 | AG5: 930.39543 | AH5: 966.929
A6: PRODUCTOS PRIMARIOS
A7: Hortalizas y legumbres sin elaborar | Z7: 13.632195 | AA7: 10.383048 | AB7: 13.872808 | AC7: 13.096547 | AD7: 10.674693 | AE7: 10.429602 | AF7: 10.204234 | AG7: 17.772576 | AH7: 12.557329
A8: Frutas frescas | B8: 11.445 | C8: 35.165 | D8: 54.605 | E8: 85.036 | F8: 81.713 | G8: 71.406 | H8: 85.54 | I8: 87.336 | J8: 102.97 | K8: 80.293 | L8: 119.612 | M8: 120.857 | N8: 142.12 | O8: 117.56 | P8: 158.915 | Q8: 351.076 | R8: 155.577 | S8: 204.614 | T8: 172.024 | U8: 206.537 | V8: 224.327 | W8: 165.868 | X8: 170.17 | Y8: 286.484 | Z8: 249.33569 | AA8: 277.6887 | AB8: 186.8066 | AC8: 181.07022 | AD8: 168.24028 | AE8: 124.92321 | AF8: 114.32339 | AG8: 99.569805 | AH8: 136.04259
A9: Cereales | Z9: 41.216932 | AA9: 55.931087 | AB9: 87.422775 | AC9: 56.173664 | AD9: 79.132294 | AE9: 85.243924 | AF9: 52.151851 | AG9: 46.725952 | AH9: 52.695115
A10: Semillas y frutos oleaginosos | N10: 34.894 | O10: 36.827 | P10: 63.209 | Q10: 79.749 | Z10: 24.669375 | AA10: 16.251828 | AB10: 45.600784 | AC10: 18.220382 | AG10: 23.627086 | AH10: 48.097121
A11: Resto de productos primarios
A12: MANUFACTURAS DE ORIGEN AGROPECUARIO (MOA)
A13: Frutas secas o procesadas | Z13: 9.3066002 | AA13: 8.2487424 | AB13: 12.407772 | AC13: 14.648577 | AD13: 18.231748 | AE13: 12.384182 | AF13: 12.133963 | AG13: 14.275184 | AH13: 13.34402
A14: Productos de molinería y sus preparaciones | AD14: 3.4676265 | AE14: 7.0103507 | AF14: 11.997843 | AG14: 10.830609 | AH14: 11.94096
A15: Azúcar, cacao y artículos de confitería | B15: 8.064 | C15: 13.991 | D15: 42.094 | E15: 52.616 | F15: 50.243 | G15: 52.356 | H15: 32.238 | I15: 38.286 | J15: 27.682 | K15: 50.461 | L15: 35.773 | M15: 38.877 | N15: 60.336 | O15: 118.757 | P15: 67.454 | Q15: 79.234 | R15: 141.971 | S15: 124.543 | T15: 87.877 | U15: 98.07 | V15: 87.902 | W15: 39.58 | X15: 60.577 | Y15: 172.897 | Z15: 95.84693 | AA15: 41.749618 | AB15: 61.560454 | AC15: 43.277252 | AD15: 81.183167 | AE15: 91.09429 | AF15: 41.10571 | AG15: 134.12648 | AH15: 131.29113
A16: Preparados de legumbres, hortalizas y frutas | B16: 10.831 | C16: 9.845 | D16: 24.369 | E16: 25.84 | F16: 30.184 | G16: 23.577 | H16: 20.359 | I16: 36.014 | J16: 40.182 | K16: 34.03 | L16: 27.04 | M16: 27.936 | R16: 105.978 | S16: 115.797 | T16: 150.289 | U16: 122.482 | V16: 113.316 | W16: 100.584 | X16: 163.529 | Y16: 152.336 | Z16: 141.09841 | AA16: 194.02572 | AB16: 150.6967 | AC16: 118.53582 | AD16: 120.83201 | AE16: 106.23817 | AF16: 100.22955 | AG16: 118.9682 | AH16: 139.92795
A17: Residuos y desperdicios de la industria alimenticia | V17: 50.959 | W17: 36.082 | X17: 87.423 | Y17: 160.273 | Z17: 110.13038 | AA17: 94.945706 | AB17: 43.684098 | AC17: 43.354712 | AD17: 55.382185 | AE17: 75.037973 | AF17: 65.76925 | AG17: 74.088525 | AH17: 68.673298
A18: MANUFACTURAS DE ORIGEN INDUSTRIAL
A19: Productos químicos y conexos | B19: 23.296 | C19: 22.15 | D19: 31.271 | E19: 32.119 | F19: 41.591 | G19: 30.04 | H19: 43.506 | I19: 45.861 | J19: 50.993 | K19: 57.222 | L19: 40.713 | M19: 45.344 | N19: 81.152 | O19: 81.864 | P19: 96.309 | Q19: 90.369 | R19: 114.957 | S19: 107.288 | T19: 143.991 | U19: 131.703 | V19: 149.711 | W19: 106.259 | X19: 190.941 | Y19: 153.325 | Z19: 165.14798 | AA19: 206.81988 | AB19: 171.11898 | AC19: 153.65481 | AD19: 143.67038 | AE19: 190.0121 | AF19: 163.15433 | AG19: 206.47216 | AH19: 204.64855
A20: Máquinas y aparatos, material eléctrico | AD20: 17.635446 | AE20: 15.616528 | AF20: s
A21: Material de transporte terrestre | B21: 41.646 | C21: 57.469 | D21: 95.068 | E21: 53.57 | F21: 63.968 | G21: 60.393 | H21: 54.245 | I21: 81.723 | J21: 65.265 | K21: 57.612 | L21: 65.158 | M21: 90.945 | N21: 102.642 | O21: 124.784 | P21: 135.381 | Q21: 149.593 | R21: 64.757 | S21: 112.537 | T21: 112.305 | U21: 92.213 | V21: 147.325 | W21: 103.765 | X21: 96.149 | Y21: 99.298 | Z21: 157.93612 | AA21: 173.41487 | AB21: s | AC21: s | AD21: s | AE21: s | AF21: s | AG21: s | AH21: s
A22: RESTO
A23: Resto de productos | B23: 58.057 | C23: 85.11 | D23: 140.005 | E23: 113.298 | F23: 148.774 | G23: 145.53 | H23: 98.562 | I23: 118.544 | J23: 130.882 | K23: 137.424 | L23: 99.44 | M23: 114.246 | N23: 139.741 | O23: 172.963 | P23: 235.666 | Q23: 275.235 | R23: 198.104 | S23: 248.939 | T23: 349.241 | U23: 228.561 | V23: 147.297 | W23: 140.473 | X23: 59.371 | Y23: 177.939 | Z23: 43.063555 | AA23: 37.396575 | AB23: s | AC23: s | AD23: s | AE23: s | AF23: 32.492962 | AG23: s | AH23: s
A26: Notas:
A27: (1) Los valores consignados de las exportaciones se refieren a precios libre a bordo (FOB, por sus siglas en inglés) en el puerto o lugar de embarque de las mercaderías. Es decir que el precio de la transacción incluye también los gastos internos incurridos hasta trasladar las mercaderías al lugar o puerto de embarque.
A28: (2) Los totales por suma pueden no coincidir por redondeo en las cifras parciales.
A29: (3) s: indica dato confidencial por aplicación de las reglas del secreto estadístico.
A31: (*) Datos provisorios

Sheet Tabla 3
A1: Tabla 3: Exportaciones de Tucumán: Totales y por Grandes Rubros, en dólares corrientes. Datos mensuales: Enero de 2021 a Agosto de 2026.
A2: Fuente: Área Comercio Exterior de la Dirección de Estadística de la Provincia de Tucumán, en base a datos de INDEC.
A4: Período | B4: Total | C4: Productos Primarios | D4: Manufacturas de Origen Agropecuario | E4: Manufacturas de Origen Industrial | F4: Combustible y Energía
A5: 2021.01 | B5: =SUM(C5:F5) -> 29297208 | C5: 4364769.6 | D5: 12383996 | E5: 12424605 | F5: 123837.49
A6: 2021.02 | B6: =SUM(C6:F6) -> 32827183 | C6: 3580738.6 | D6: 12717201 | E6: 16462367 | F6: 66876.44
A7: 2021.03 | B7: =SUM(C7:F7) -> 45464496 | C7: 7259223.6 | D7: 15114869 | E7: 23014608 | F7: 75796.41
A8: 2021.04 | B8: =SUM(C8:F8) -> 48302545 | C8: 18894459 | D8: 10225262 | E8: 19054036 | F8: 128788.72
A9: 2021.05 | B9: =SUM(C9:F9) -> 72963702 | C9: 34714840 | D9: 14545912 | E9: 23591774 | F9: 111175.68
A10: 2021.06 | B10: =SUM(C10:F10) -> 93751112 | C10: 56934579 | D10: 18640746 | E10: 18061272 | F10: 114515.39
A11: 2021.07 | B11: =SUM(C11:F11) -> 1.2260641e+08 | C11: 60664647 | D11: 27836200 | E11: 33946805 | F11: 158756.52
A12: 2021.08 | B12: =SUM(C12:F12) -> 1.2766516e+08 | C12: 50300465 | D12: 40209662 | E12: 37014077 | F12: 140956.24
A13: 2021.09 | B13: =SUM(C13:F13) -> 95705305 | C13: 19128697 | D13: 33870607 | E13: 42590887 | F13: 115114.02
A14: 2021.1 | B14: =SUM(C14:F14) -> 1.0429969e+08 | C14: 18221697 | D14: 33276959 | E14: 52664869 | F14: 136170
A15: 2021.11 | B15: =SUM(C15:F15) -> 67650986 | C15: 7771424.4 | D15: 31782748 | E15: 27978857 | F15: 117956.54
A16: 2021.12 | B16: =SUM(C16:F16) -> 73954366 | C16: 9542586.1 | D16: 35961110 | E16: 28321039 | F16: 129631.27
... A40: 2023.12 | B40: =SUM(C40:F40) -> 61502719 | C40: 5368388.2 | D40: 26539905 | E40: 29368815 | F40: 225610.97
A41: *2024.01 | B41: =SUM(C41:F41) -> 49562224 | C41: 7935021.3 | D41: 13719353 | E41: 27642804 | F41: 265044.89
A42: *2024.02 | B42: =SUM(C42:F42) -> 59595571 | C42: 6973546 | D42: 22772081 | E42: 29622812 | F42: 227131.51
A43: *2024.03 | B43: =SUM(C43:F43) -> 51205115 | C43: 10680617 | D43: 17886064 | E43: 22395460 | F43: 242974.26
A44: *2024.04 | B44: =SUM(C44:F44) -> 48452716 | C44: 13606834 | D44: 17394295 | E44: 17204362 | F44: 247224.87
A45: *2024.05 | B45: =SUM(C45:F45) -> 80721765 | C45: 33314198 | D45: 28968124 | E45: 18235938 | F45: 203504.74
A46: *2024.06 | B46: =SUM(C46:F46) -> 82265032 | C46: 40163344 | D46: 22546160 | E46: 19386871 | F46: 168657.4
A47: *2024.07 | B47: =SUM(C47:F47) -> 1.0248356e+08 | C47: 33102939 | D47: 40481097 | E47: 28712067 | F47: 187452.2
A48: *2024.08 | B48: =SUM(C48:F48) -> 98477539 | C48: 15435521 | D48: 46006809 | E48: 36865459 | F48: 169749.99
A49: *2024.09 | B49: =SUM(C49:F49) -> 1.0745932e+08 | C49: 10152565 | D49: 47777603 | E49: 49341891 | F49: 187260.21
A50: *2024.10 | B50: =SUM(C50:F50) -> 96732535 | C50: 11880805 | D50: 30426921 | E50: 54257902 | F50: 166905.95
A51: *2024.11 | B51: =SUM(C51:F51) -> 89920445 | C51: 5311780 | D51: 32443251 | E51: 51978776 | F51: 186638.47
A52: *2024.12 | B52: =SUM(C52:F52) -> 63519611 | C52: 6168147.1 | D52: 39906474 | E52: 17185165 | F52: 259824.49
... A72: *2026.08 | B72: =SUM(C72:F72) -> 1.1764601e+08 | C72: 20878559 | D72: 54957541 | E72: 41356368 | F72: 453545.7
A73: *2026.09
A74: *2026.10
A75: *2026.11
A76: *2026.12
A79: Notas:
A80: (1) Los valores consignados de las exportaciones se refieren a precios libre a bordo (FOB, por sus siglas en inglés) en el puerto o lugar de embarque de las mercaderías. Es decir que el precio de la transacción incluye también los gastos internos incurridos hasta trasladar las mercaderías al lugar o puerto de embarque.
A82: (*) Datos provisorios

Sheet Tabla 4
A1: Tabla 4: Exportaciones de Tucumán: Valores mensuales acumulados desde Enero de 2026 a Agosto de 2026, comparados al mismo periodo en 2025, en dólares corrientes. Totales y Grandes Rubros.
A2: Fuente: Área Comercio Exterior de la Dirección de Estadística de la Provincia de Tucumán, en base a datos de INDEC.
A4: Valores acumulados | B4: Total | E4: Productos primarios | H4: Manufacturas de origen agropecuario | K4: Manufacturas de origen industrial | N4: Combustibles y energías
A5: Período | B5: 2025* | C5: 2026* | E5: 2025* | F5: 2026* | H5: 2025* | I5: 2026* | K5: 2025* | L5: 2026* | N5: 2025* | O5: 2026*
A6: Enero | B6: ='Tabla 3'!B53 -> 52215721 | C6: ='Tabla 3'!B65 -> 65058739 | E6: ='Tabla 3'!C53 -> 6673837.2 | F6: ='Tabla 3'!C65 -> 7701258.9 | H6: ='Tabla 3'!D53 -> 16987186 | I6: ='Tabla 3'!D65 -> 27356616 | K6: ='Tabla 3'!E53 -> 28321580 | L6: ='Tabla 3'!E65 -> 29755222 | N6: ='Tabla 3'!F53 -> 233118.14 | O6: ='Tabla 3'!F65 -> 245642.35
A7: Enero a Febrero | B7: =SUM('Tabla 3'!B53:B54) -> 1.0192328e+08 | C7: =SUM('Tabla 3'!B65:B66) -> 1.0940655e+08 | E7: =SUM('Tabla 3'!C53:C54) -> 13339507 | F7: =SUM('Tabla 3'!C65:C66) -> 14294385 | H7: =SUM('Tabla 3'!D53:D54) -> 35850811 | I7: =SUM('Tabla 3'!D65:D66) -> 45959370 | K7: =SUM('Tabla 3'!E53:E54) -> 52282779 | L7: =SUM('Tabla 3'!E65:E66) -> 48659222 | N7: =SUM('Tabla 3'!F53:F54) -> 450184.67 | O7: =SUM('Tabla 3'!F65:F66) -> 493575.32
A8: Enero a Marzo | B8: =SUM('Tabla 3'!B53:B55) -> 1.5690186e+08 | C8: =SUM('Tabla 3'!B65:B67) -> 1.5940515e+08 | E8: =SUM('Tabla 3'!C53:C55) -> 20198657 | F8: =SUM('Tabla 3'!C65:C67) -> 24365023 | H8: =SUM('Tabla 3'!D53:D55) -> 64573087 | I8: =SUM('Tabla 3'!D65:D67) -> 66570071 | K8: =SUM('Tabla 3'!E53:E55) -> 71465354 | L8: =SUM('Tabla 3'!E65:E67) -> 67667286 | N8: =SUM('Tabla 3'!F53:F55) -> 664766.77 | O8: =SUM('Tabla 3'!F65:F67) -> 802775.08
A9: Enero a Abril | B9: =SUM('Tabla 3'!B53:B56) -> 2.0445956e+08 | C9: =SUM('Tabla 3'!B65:B68) -> 2.214751e+08 | E9: =SUM('Tabla 3'!C53:C56) -> 37254364 | F9: =SUM('Tabla 3'!C65:C68) -> 55656959 | H9: =SUM('Tabla 3'!D53:D56) -> 82726548 | I9: =SUM('Tabla 3'!D65:D68) -> 83103714 | K9: =SUM('Tabla 3'!E53:E56) -> 83653239 | L9: =SUM('Tabla 3'!E65:E68) -> 81601183 | N9: =SUM('Tabla 3'!F53:F56) -> 825413.04 | O9: =SUM('Tabla 3'!F65:F68) -> 1113241.2
A10: Enero a Mayo | B10: =SUM('Tabla 3'!B53:B57) -> 2.8898345e+08 | C10: =SUM('Tabla 3'!B65:B69) -> 3.3840109e+08 | E10: =SUM('Tabla 3'!C53:C57) -> 84104794 | F10: =SUM('Tabla 3'!C65:C69) -> 1.2963998e+08 | H10: =SUM('Tabla 3'!D53:D57) -> 1.0471316e+08 | I10: =SUM('Tabla 3'!D65:D69) -> 1.0961992e+08 | K10: =SUM('Tabla 3'!E53:E57) -> 99138309 | L10: =SUM('Tabla 3'!E65:E69) -> 97692801 | N10: =SUM('Tabla 3'!F53:F57) -> 1027181.8 | O10: =SUM('Tabla 3'!F65:F69) -> 1448395.2
A11: Enero a Junio | B11: =SUM('Tabla 3'!B53:B58) -> 3.8705946e+08 | C11: =SUM('Tabla 3'!B65:B70) -> 4.5809427e+08 | E11: =SUM('Tabla 3'!C53:C58) -> 1.3034723e+08 | F11: =SUM('Tabla 3'!C65:C70) -> 1.8560848e+08 | H11: =SUM('Tabla 3'!D53:D58) -> 1.4224982e+08 | I11: =SUM('Tabla 3'!D65:D70) -> 1.4895775e+08 | K11: =SUM('Tabla 3'!E53:E58) -> 1.1324468e+08 | L11: =SUM('Tabla 3'!E65:E70) -> 1.2170547e+08 | N11: =SUM('Tabla 3'!F53:F58) -> 1217731.1 | O11: =SUM('Tabla 3'!F65:F70) -> 1822574.5
A12: Enero a Julio | B12: =SUM('Tabla 3'!B53:B59) -> 4.8746483e+08 | C12: =SUM('Tabla 3'!B65:B71) -> 5.8842944e+08 | E12: =SUM('Tabla 3'!C53:C59) -> 1.7418826e+08 | F12: =SUM('Tabla 3'!C65:C71) -> 2.3480865e+08 | H12: =SUM('Tabla 3'!D53:D59) -> 1.8123516e+08 | I12: =SUM('Tabla 3'!D65:D71) -> 2.0205812e+08 | K12: =SUM('Tabla 3'!E53:E59) -> 1.3064237e+08 | L12: =SUM('Tabla 3'!E65:E71) -> 1.4931771e+08 | N12: =SUM('Tabla 3'!F53:F59) -> 1399031.9 | O12: =SUM('Tabla 3'!F65:F71) -> 2244958.6
A13: Enero a Agosto | B13: =SUM('Tabla 3'!B53:B60) -> 5.8718973e+08 | C13: =SUM('Tabla 3'!B65:B72) -> 7.0607545e+08 | E13: =SUM('Tabla 3'!C53:C60) -> 2.0022477e+08 | F13: =SUM('Tabla 3'!C65:C72) -> 2.5568721e+08 | H13: =SUM('Tabla 3'!D53:D60) -> 2.178888e+08 | I13: =SUM('Tabla 3'!D65:D72) -> 2.5701566e+08 | K13: =SUM('Tabla 3'!E53:E60) -> 1.6749283e+08 | L13: =SUM('Tabla 3'!E65:E72) -> 1.9067408e+08 | N13: =SUM('Tabla 3'!F53:F60) -> 1583329.1 | O13: =SUM('Tabla 3'!F65:F72) -> 2698504.3
A17: Notas:
A18: (1) Los valores consignados de las exportaciones se refieren a precios libre a bordo (FOB, por sus siglas en inglés) en el puerto o lugar de embarque de las mercaderías. Es decir que el precio de la transacción incluye también los gastos internos incurridos hasta trasladar las mercaderías al lugar o puerto de embarque.
A19: (*) Datos provisorios
